Workbook

Sheet CRI
A1: F.F | B1: C R I | H1: CONCEPTOS DE INGRESOS | O1: CRI ECUANDUREO 2024
B2: R | C2: T | D2: CL | F2: CO | O2: DETALLE | P2: SUMA | Q2: TOTAL
A3: 1 | B3: NO ETIQUETADO | Q3: =Q4+Q109 -> 20184232
A4: 11 | B4: RECURSOS FISCALES | Q4: =Q5+Q26+Q32+Q71+Q80 -> 13499806
A5: 11 | B5: 1 | C5: 0 | D5: 0 | E5: 0 | F5: 0 | G5: 0 | H5: IMPUESTOS. | Q5: =SUM(P6,P9,P15,P17,P22,P24) -> 5864148.7
A6: 11 | B6: 1 | C6: 1 | D6: 0 | E6: 0 | F6: 0 | G6: 0 | I6: Impuestos Sobre los Ingresos. | P6: =SUM(O7:O8) -> 0
A7: 11 | B7: 1 | C7: 1 | D7: 0 | E7: 1 | F7: 0 | G7: 0 | J7: Impuesto sobre loterías, rifas, sorteos y concursos | O7: =PI!K11 -> 0
A8: 11 | B8: 1 | C8: 1 | D8: 0 | E8: 2 | F8: 0 | G8: 0 | J8: Impuesto sobre espectáculos públicos | O8: =PI!K12 -> 0
A9: 11 | B9: 1 | C9: 2 | D9: 0 | E9: 0 | F9: 0 | G9: 0 | I9: Impuestos Sobre el Patrimonio. | P9: =SUM(P10,O14) -> 5450519.7
A10: 11 | B10: 1 | C10: 2 | D10: 0 | E10: 1 | F10: 0 | G10: 0 | J10: Impuesto predial. | P10: =SUM(O11:O13) -> 5450519.7
A11: 11 | B11: 1 | C11: 2 | D11: 0 | E11: 1 | F11: 0 | G11: 1 | K11: Impuesto predial urbano | O11: =PI!K15 -> 4509649.5
A12: 11 | B12: 1 | C12: 2 | D12: 0 | E12: 1 | F12: 0 | G12: 2 | K12: Impuesto predial rústico | O12: =PI!K16 -> 940870.24
A13: 11 | B13: 1 | C13: 2 | D13: 0 | E13: 1 | F13: 0 | G13: 3 | K13: Impuesto predial ejidal y comunal | O13: =PI!K17 -> 0
A14: 11 | B14: 1 | C14: 2 | D14: 0 | E14: 2 | F14: 0 | G14: 0 | J14: Impuesto sobre lotes baldíos, sin bardear o falta de banquetas | O14: =PI!K18 -> 0
A15: 11 | B15: 1 | C15: 3 | D15: 0 | E15: 0 | F15: 0 | G15: 0 | I15: Impuesto Sobre la Producción, el Consumo y las Transacciones. | P15: =O16 -> 227897
A16: 11 | B16: 1 | C16: 3 | D16: 0 | E16: 3 | F16: 0 | G16: 0 | J16: Impuesto sobre adquisición de inmuebles | O16: =PI!K20 -> 227897
A17: 11 | B17: 1 | C17: 7 | D17: 0 | E17: 0 | F17: 0 | G17: 0 | I17: Accesorios de Impuestos. | P17: =SUM(O18:O21) -> 185732
A18: 11 | B18: 1 | C18: 7 | D18: 0 | E18: 2 | F18: 0 | G18: 0 | J18: Recargos de impuestos municipales | O18: =PI!K22 -> 82692.1
A19: 11 | B19: 1 | C19: 7 | D19: 0 | E19: 4 | F19: 0 | G19: 0 | J19: Multas y/o sanciones de impuestos municipales | O19: =PI!K23 -> 103039.9
A20: 11 | B20: 1 | C20: 7 | D20: 0 | E20: 6 | F20: 0 | G20: 0 | J20: Honorarios y gastos de ejecución de impuestos municipales | O20: =PI!K24 -> 0
A21: 11 | B21: 1 | C21: 7 | D21: 0 | E21: 8 | F21: 0 | G21: 0 | J21: Actualizaciones de impuestos municipales | O21: =PI!K25 -> 0
A22: 11 | B22: 1 | C22: 8 | D22: 0 | E22: 0 | F22: 0 | G22: 0 | I22: Otros Impuestos. | P22: =O23 -> 0
A23: 11 | B23: 1 | C23: 8 | D23: 0 | E23: 1 | F23: 0 | G23: 0 | J23: Otros impuestos | O23: =PI!K27 -> 0
A24: 11 | B24: 1 | C24: 9 | D24: 0 | E24: 0 | F24: 0 | G24: 0 | I24: Impuestos no Comprendidos en la Ley de Ingresos Causados en Ejercicios Fiscales Anteriores Pendientes de Liquidación o Pago. | P24: =O25 -> 0
A25: 11 | B25: 1 | C25: 9 | D25: 0 | E25: 1 | F25: 0 | G25: 0 | J25: Impuestos no Comprendidos en la Ley de Ingresos Causados en Ejercicios Fiscales Anteriores Pendientes de Liquidación o Pago. | O25: =PI!K29 -> 0
A26: 11 | B26: 3 | C26: 0 | D26: 0 | E26: 0 | F26: 0 | G26: 0 | H26: CONTRIBUCIONES DE MEJORAS. | Q26: =SUM(P27,P30) -> 0
A27: 11 | B27: 3 | C27: 1 | D27: 0 | E27: 0 | F27: 0 | G27: 0 | I27: Contribuciones de Mejoras por Obras Públicas. | P27: =SUM(O28:O29) -> 0
A28: 11 | B28: 3 | C28: 1 | D28: 0 | E28: 1 | F28: 0 | G28: 0 | J28: De aumento de valor y mejoría especifica de la propiedad | O28: =PI!K32 -> 0
A29: 11 | B29: 3 | C29: 1 | D29: 0 | E29: 2 | F29: 0 | G29: 0 | J29: De la aportación para mejoras | O29: =PI!K33 -> 0
A30: 11 | B30: 3 | C30: 9 | D30: 0 | E30: 0 | F30: 0 | G30: 0 | I30: Contribuciones de Mejoras no Comprendidas en la Ley de Ingresos Causadas en Ejercicios Fiscales Anteriores Pendientes de Liquidación o Pago. | P30: =O31 -> 0
A31: 11 | B31: 3 | C31: 9 | D31: 0 | E31: 1 | F31: 0 | G31: 0 | J31: Contribuciones de mejoras no comprendidas en la Ley de Ingresos causadas en ejercicios fiscales anteriores pendientes de liquidación o pago | O31: =PI!K35 -> 0
A32: 11 | B32: 4 | C32: 0 | D32: 0 | E32: 0 | F32: 0 | G32: 0 | H32: DERECHOS. | Q32: =SUM(P33,P35,P49,P64,P69) -> 6701923.6
A33: 11 | B33: 4 | C33: 1 | D33: 0 | E33: 0 | F33: 0 | G33: 0 | I33: Derechos por el Uso, Goce, Aprovechamiento o Explotación de Bienes de Dominio Público. | P33: =O34 -> 460026.6
A34: 11 | B34: 4 | C34: 1 | D34: 0 | E34: 1 | F34: 0 | G34: 0 | J34: Por ocupación de la vía pública y servicios de mercados | O34: =PI!K38 -> 460026.6
A35: 11 | B35: 4 | C35: 3 | D35: 0 | E35: 0 | F35: 0 | G35: 0 | I35: Derechos por Prestación de Servicios. | P35: =P36 -> 3759554.5
A36: 11 | B36: 4 | C36: 3 | D36: 0 | E36: 2 | F36: 0 | G36: 0 | J36: Derechos por la Prestación de Servicios Municipales. | P36: =SUM(O37:O48) -> 3759554.5
A37: 11 | B37: 4 | C37: 3 | D37: 0 | E37: 2 | F37: 0 | G37: 1 | J37: Por servicios de alumbrado público | O37: =PI!K41 -> 2884633.5
A38: 11 | B38: 4 | C38: 3 | D38: 0 | E38: 2 | F38: 0 | G38: 2 | J38: Por la prestación del servicio de agua potable, alcantarillado y saneamiento | O38: =PI!K42 -> 0
A39: 11 | B39: 4 | C39: 3 | D39: 0 | E39: 2 | F39: 0 | G39: 3 | J39: Por servicio de panteones | O39: =PI!K43 -> 599310.4
A40: 11 | B40: 4 | C40: 3 | D40: 0 | E40: 2 | F40: 0 | G40: 4 | J40: Por servicio de rastro | O40: =PI!K44 -> 0
...

Sheet PI
A1: PRESUPUESTO DE INGRESOS DEL EJERCICIO FISCAL 2024
A3: NOMBRE DEL MUNICIPIO: | I3: ECUANDUREO, MICHOACAN | O3: EJERCICIO PRESUPUESTAL: 2024
A4: TOTAL DEL PRESUPUESTO DE INGRESOS: | K4: =K173 -> 86869401
A5: F.F | B5: FINANCIAMIENTO | C5: CÒDIGO | I5: RUBRO/TIPO/CLASE/CONCEPTO | K5: ANUAL | L5: ENERO | M5: FEBRERO | N5: MARZO | O5: ABRIL | P5: MAYO | Q5: JUNIO | R5: JULIO | S5: AGOSTO | T5: SEPTIEMBRE | U5: OCTUBRE | V5: NOVIEMBRE | W5: DICIEMBRE
C6: R | D6: T | E6: CL | G6: CO | I6: EXISTENCIA PERIODO ANTERIOR | J6: nivel | K6: =SUM(L6:W6) -> 0
A7: 1 | B7: NO ETIQUETADO | J7: 0 | K7: =SUM(L7:W7) -> 20184232 | L7: =L8+L113 -> 7566680.6 | M7: =M8+M113 -> 3305877 | N7: =N8+N113 -> 1346039.8 | O7: =O8+O113 -> 1136627.6 | P7: =P8+P113 -> 936365.45 | Q7: =Q8+Q113 -> 1012006.2 | R7: =R8+R113 -> 1050253.7 | S7: =S8+S113 -> 944297.91 | ... W7: =W8+W113 -> 771075.87
A8: 11 | B8: RECURSOS FISCALES | J8: 0 | K8: =SUM(L8:W8) -> 13499806 | L8: =L9+L30+L36+L75+L84 -> 4889982.6 | M8: =M9+M30+M36+M75+M84 -> 2252370 | N8: =N9+N30+N36+N75+N84 -> 828206.77 | O8: =O9+O30+O36+O75+O84 -> 800929.55 | P8: =P9+P30+P36+P75+P84 -> 612887.45 | Q8: =Q9+Q30+Q36+Q75+Q84 -> 758556.22 | R8: =R9+R30+R36+R75+R84 -> 799775.72 | S8: =S9+S30+S36+S75+S84 -> 684659.91 | ... W8: =W9+W30+W36+W75+W84 -> 520708.87
A9: 11 | C9: 1 | D9: 0 | E9: 0 | F9: 0 | G9: 0 | H9: 0 | I9: IMPUESTOS. | J9: 1 | K9: =SUM(L9:W9) -> 5864148.7 | L9: =L10+L13+L19+L21+L26+L28 -> 3767825.8 | M9: =M10+M13+M19+M21+M26+M28 -> 1314204.8 | N9: =N10+N13+N19+N21+N26+N28 -> 210874.49 | O9: =O10+O13+O19+O21+O26+O28 -> 78518.512 | P9: =P10+P13+P19+P21+P26+P28 -> 36655.981 | Q9: =Q10+Q13+Q19+Q21+Q26+Q28 -> 91311.574 | R9: =R10+R13+R19+R21+R26+R28 -> 92908.914 | S9: =S10+S13+S19+S21+S26+S28 -> 47378.377 | ... W9: =W10+W13+W19+W21+W26+W28 -> 63162.872
A10: 11 | C10: 1 | D10: 1 | E10: 0 | F10: 0 | G10: 0 | H10: 0 | I10: Impuestos Sobre los Ingresos. | J10: 2 | K10: =SUM(L10:W10) -> 0 | L10: =SUM(L11:L12) -> 0 | M10: =SUM(M11:M12) -> 0 | N10: =SUM(N11:N12) -> 0 | O10: =SUM(O11:O12) -> 0 | P10: =SUM(P11:P12) -> 0 | Q10: =SUM(Q11:Q12) -> 0 | R10: =SUM(R11:R12) -> 0 | S10: =SUM(S11:S12) -> 0 | ... W10: =SUM(W11:W12) -> 0
A11: 11 | C11: 1 | D11: 1 | E11: 0 | F11: 1 | G11: 0 | H11: 0 | I11: Impuesto sobre loterías, rifas, sorteos y concursos | J11: 4 | K11: =SUM(L11:W11) -> 0
A12: 11 | C12: 1 | D12: 1 | E12: 0 | F12: 2 | G12: 0 | H12: 0 | I12: Impuesto sobre espectáculos públicos | J12: 4 | K12: =SUM(L12:W12) -> 0
A13: 11 | C13: 1 | D13: 2 | E13: 0 | F13: 0 | G13: 0 | H13: 0 | I13: Impuestos Sobre el Patrimonio. | J13: 2 | K13: =SUM(L13:W13) -> 5450519.7 | L13: =L14+L18 -> 3701256 | M13: =M14+M18 -> 1270584.3 | N13: =N14+N18 -> 145971.19 | O13: =O14+O18 -> 55068.712 | P13: =P14+P18 -> 27573.281 | Q13: =Q14+Q18 -> 37335.674 | R13: =R14+R18 -> 53250.614 | S13: =S14+S18 -> 11587.677 | ... W13: =W14+W18 -> 25916.872
A14: 11 | C14: 1 | D14: 2 | E14: 0 | F14: 1 | G14: 0 | H14: 0 | I14: Impuesto predial. | J14: 2.5 | K14: =SUM(L14:W14) -> 5450519.7 | L14: =SUM(L15:L17) -> 3701256 | M14: =SUM(M15:M17) -> 1270584.3 | N14: =SUM(N15:N17) -> 145971.19 | O14: =SUM(O15:O17) -> 55068.712 | P14: =SUM(P15:P17) -> 27573.281 | Q14: =SUM(Q15:Q17) -> 37335.674 | R14: =SUM(R15:R17) -> 53250.614 | S14: =SUM(S15:S17) -> 11587.677 | ... W14: =SUM(W15:W17) -> 25916.872
A15: 11 | C15: 1 | D15: 2 | E15: 0 | F15: 1 | G15: 0 | H15: 1 | I15: Impuesto predial urbano | J15: 4 | K15: =SUM(L15:W15) -> 4509649.5 | L15: 3119467.2 | M15: 1006633.2 | N15: 110683.57 | O15: 25171.907 | P15: 24055.657 | Q15: 33813.26 | R15: 50631.26 | S15: 8072.4487 | T15: 2661.2731 | U15: 11968.543 | V15: 93511.054 | W15: 22980.129
A16: 11 | C16: 1 | D16: 2 | E16: 0 | F16: 1 | G16: 0 | H16: 2 | I16: Impuesto predial rústico | J16: 4 | K16: =SUM(L16:W16) -> 940870.24 | L16: 581788.8 | M16: 263951.11 | N16: 35287.619 | O16: 29896.805 | P16: 3517.6234 | Q16: 3522.4142 | R16: 2619.3539 | S16: 3515.228 | T16: 1406.0912 | U16: 1415.6727 | V16: 11012.784 | W16: 2936.7425
A17: 11 | C17: 1 | D17: 2 | E17: 0 | F17: 1 | G17: 0 | H17: 3 | I17: Impuesto predial ejidal y comunal | J17: 4 | K17: =SUM(L17:W17) -> 0 | L17: 0 | M17: 0 | N17: 0 | O17: 0 | P17: 0 | Q17: 0 | R17: 0 | S17: 0 | T17: 0 | U17: 0 | V17: 0 | W17: 0
A18: 11 | C18: 1 | D18: 2 | E18: 0 | F18: 2 | G18: 0 | H18: 0 | I18: Impuesto sobre lotes baldíos, sin bardear o falta de banquetas | J18: 4 | K18: =SUM(L18:W18) -> 0 | L18: 0 | M18: 0 | N18: 0 | O18: 0 | P18: 0 | Q18: 0 | R18: 0 | S18: 0 | T18: 0 | U18: 0 | V18: 0 | W18: 0
A19: 11 | C19: 1 | D19: 3 | E19: 0 | F19: 0 | G19: 0 | H19: 0 | I19: Impuesto Sobre la Producción, el Consumo y las Transacciones. | J19: 2 | K19: =SUM(L19:W19) -> 227897 | L19: =L20 -> 28048.9 | M19: =M20 -> 29829.8 | N19: =N20 -> 29616.4 | O19: =O20 -> 12804 | P19: =P20 -> 4393.4 | Q19: =Q20 -> 24241.8 | R19: =R20 -> 16513.2 | S19: =S20 -> 25943.5 | ... W19: =W20 -> 25627
A20: 11 | C20: 1 | D20: 3 | E20: 0 | F20: 3 | G20: 0 | H20: 0 | I20: Impuesto sobre adquisición de inmuebles | J20: 4 | K20: =SUM(L20:W20) -> 227897 | L20: 28048.9 | M20: 29829.8 | N20: 29616.4 | O20: 12804 | P20: 4393.4 | Q20: 24241.8 | R20: 16513.2 | S20: 25943.5 | T20: 14537 | U20: 9612 | V20: 6730 | W20: 25627
A21: 11 | C21: 1 | D21: 7 | E21: 0 | F21: 0 | G21: 0 | H21: 0 | I21: Accesorios de Impuestos. | J21: 2 | K21: =SUM(L21:W21) -> 185732 | L21: =SUM(L22:L25) -> 38520.9 | M21: =SUM(M22:M25) -> 13790.7 | N21: =SUM(N22:N25) -> 35286.9 | O21: =SUM(O22:O25) -> 10645.8 | P21: =SUM(P22:P25) -> 4689.3 | Q21: =SUM(Q22:Q25) -> 29734.1 | R21: =SUM(R22:R25) -> 23145.1 | S21: =SUM(S22:S25) -> 9847.2 | ... W21: =SUM(W22:W25) -> 11619
A22: 11 | C22: 1 | D22: 7 | E22: 0 | F22: 2 | G22: 0 | H22: 0 | I22: Recargos de impuestos municipales | J22: 4 | K22: =SUM(L22:W22) -> 82692.1 | L22: 20662.4 | M22: 6612.1 | N22: 7549.3 | O22: 3019.5 | P22: 1156.1 | Q22: 17537.3 | R22: 11528 | S22: 2776.4 | T22: 688 | U22: 1468 | V22: 0 | W22: 9695
A23: 11 | C23: 1 | D23: 7 | E23: 0 | F23: 4 | G23: 0 | H23: 0 | I23: Multas y/o sanciones de impuestos municipales | J23: 4 | K23: =SUM(L23:W23) -> 103039.9 | L23: 17858.5 | M23: 7178.6 | N23: 27737.6 | O23: 7626.3 | P23: 3533.2 | Q23: 12196.8 | R23: 11617.1 | S23: 7070.8 | T23: 2163 | U23: 4134 | V23: 0 | W23: 1924
A24: 11 | C24: 1 | D24: 7 | E24: 0 | F24: 6 | G24: 0 | H24: 0 | I24: Honorarios y gastos de ejecución de impuestos municipales | J24: 4 | K24: =SUM(L24:W24) -> 0
A25: 11 | C25: 1 | D25: 7 | E25: 0 | F25: 8 | G25: 0 | H25: 0 | I25: Actualizaciones de impuestos municipales | J25: 4 | K25: =SUM(L25:W25) -> 0
A26: 11 | C26: 1 | D26: 8 | E26: 0 | F26: 0 | G26: 0 | H26: 0 | I26: Otros Impuestos. | J26: 2 | K26: =SUM(L26:W26) -> 0 | L26: =L27 -> 0 | M26: =M27 -> 0 | N26: =N27 -> 0 | O26: =O27 -> 0 | P26: =P27 -> 0 | Q26: =Q27 -> 0 | R26: =R27 -> 0 | S26: =S27 -> 0 | ... W26: =W27 -> 0
A27: 11 | C27: 1 | D27: 8 | E27: 0 | F27: 1 | G27: 0 | H27: 0 | I27: Otros impuestos (Desglose por COEAC a petición del Ente Público) | J27: 4 | K27: =SUM(L27:W27) -> 0
A28: 11 | C28: 1 | D28: 9 | E28: 0 | F28: 0 | G28: 0 | H28: 0 | I28: Impuestos no Comprendidos en la Ley de Ingresos Causados en Ejercicios Fiscales Anteriores Pendientes de Liquidación o Pago. | K28: =SUM(L28:W28) -> 0 | L28: =L29 -> 0 | M28: =M29 -> 0 | N28: =N29 -> 0 | O28: =O29 -> 0 | P28: =P29 -> 0 | Q28: =Q29 -> 0 | R28: =R29 -> 0 | S28: =S29 -> 0 | ... W28: =W29 -> 0
A29: 11 | C29: 1 | D29: 9 | E29: 0 | F29: 1 | G29: 0 | H29: 0 | I29: Impuestos no Comprendidos en la Ley de Ingresos Causados en Ejercicios Fiscales Anteriores Pendientes de Liquidación o Pago. | K29: =SUM(L29:W29) -> 0
A30: 11 | C30: 3 | D30: 0 | E30: 0 | F30: 0 | G30: 0 | H30: 0 | I30: CONTRIBUCIONES DE MEJORAS. | J30: 1 | K30: =SUM(L30:W30) -> 0 | L30: =L31+L34 -> 0 | M30: =M31+M34 -> 0 | N30: =N31+N34 -> 0 | O30: =O31+O34 -> 0 | P30: =P31+P34 -> 0 | Q30: =Q31+Q34 -> 0 | R30: =R31+R34 -> 0 | S30: =S31+S34 -> 0 | ... W30: =W31+W34 -> 0
A31: 11 | C31: 3 | D31: 1 | E31: 0 | F31: 0 | G31: 0 | H31: 0 | I31: Contribuciones de Mejoras por Obras Públicas. | J31: 2 | K31: =SUM(L31:W31) -> 0 | L31: =SUM(L32:L33) -> 0 | M31: =SUM(M32:M33) -> 0 | N31: =SUM(N32:N33) -> 0 | O31: =SUM(O32:O33) -> 0 | P31: =SUM(P32:P33) -> 0 | Q31: =SUM(Q32:Q33) -> 0 | R31: =SUM(R32:R33) -> 0 | S31: =SUM(S32:S33) -> 0 | ... W31: =SUM(W32:W33) -> 0
A32: 11 | C32: 3 | D32: 1 | E32: 0 | F32: 1 | G32: 0 | H32: 0 | I32: De aumento de valor y mejoría especifica de la propiedad | J32: 4 | K32: =SUM(L32:W32) -> 0
A33: 11 | C33: 3 | D33: 1 | E33: 0 | F33: 2 | G33: 0 | H33: 0 | I33: De la aportación para mejoras | J33: 4 | K33: =SUM(L33:W33) -> 0
A34: 11 | C34: 3 | D34: 9 | E34: 0 | F34: 0 | G34: 0 | H34: 0 | I34: Contribuciones de Mejoras no Comprendidas en la Ley de Ingresos Causadas en Ejercicios Fiscales Anteriores Pendientes de Liquidación o Pago. | J34: 2 | K34: =SUM(L34:W34) -> 0 | L34: =L35 -> 0 | M34: =M35 -> 0 | N34: =N35 -> 0 | O34: =O35 -> 0 | P34: =P35 -> 0 | Q34: =Q35 -> 0 | R34: =R35 -> 0 | S34: =S35 -> 0 | ... W34: =W35 -> 0
A35: 11 | C35: 3 | D35: 9 | E35: 0 | F35: 1 | G35: 0 | H35: 0 | I35: Contribuciones de mejoras no comprendidas en la Ley de Ingresos causadas en ejercicios fiscales anteriores pendientes de liquidación o pago (Desglose por COEAC a petición del Ente Público) | J35: 4 | K35: =SUM(L35:W35) -> 0
A36: 11 | C36: 4 | D36: 0 | E36: 0 | F36: 0 | G36: 0 | H36: 0 | I36: DERECHOS. | J36: 1 | K36: =SUM(L36:W36) -> 6701923.6 | L36: =L37+L39+L53+L68+L73 -> 1106365.1 | M36: =M37+M39+M53+M68+M73 -> 821051.98 | N36: =N37+N39+N53+N68+N73 -> 538966.72 | O36: =O37+O39+O53+O68+O73 -> 613260.62 | P36: =P37+P39+P53+P68+P73 -> 479705.23 | Q36: =Q37+Q39+Q53+Q68+Q73 -> 520946.73 | R36: =R37+R39+R53+R68+R73 -> 578237.67 | S36: =S37+S39+S53+S68+S73 -> 518927.53 | ... W36: =W37+W39+W53+W68+W73 -> 433478
A37: 11 | C37: 4 | D37: 1 | E37: 0 | F37: 0 | G37: 0 | H37: 0 | I37: Derechos por el Uso, Goce, Aprovechamiento o Explotación de Bienes de Dominio Público. | J37: 2 | K37: =SUM(L37:W37) -> 460026.6 | L37: =L38 -> 359348 | M37: =M38 -> 9339 | N37: =N38 -> 12380.5 | O37: =O38 -> 6850.8 | P37: =P38 -> 5742 | Q37: =Q38 -> 9410.5 | R37: =R38 -> 7279.8 | S37: =S38 -> 8316 | ... W37: =W38 -> 13762
A38: 11 | C38: 4 | D38: 1 | E38: 0 | F38: 1 | G38: 0 | H38: 0 | I38: Por ocupación de la vía pública y servicios de mercados | J38: 4 | K38: =SUM(L38:W38) -> 460026.6 | L38: 359348 | M38: 9339 | N38: 12380.5 | O38: 6850.8 | P38: 5742 | Q38: 9410.5 | R38: 7279.8 | S38: 8316 | T38: 5694 | U38: 10036 | V38: 11868 | W38: 13762
A39: 11 | C39: 4 | D39: 3 | E39: 0 | F39: 0 | G39: 0 | H39: 0 | I39: Derechos por Prestación de Servicios. | J39: 2 | K39: =SUM(L39:W39) -> 3759554.5 | L39: =L40 -> 543441.72 | M39: =M40 -> 564938.28 | N39: =N40 -> 249232.49 | O39: =O40 -> 340603.12 | P39: =P40 -> 288854.13 | Q39: =Q40 -> 319542.93 | R39: =R40 -> 315446.27 | S39: =S40 -> 340804.53 | ... W39: =W40 -> 249009
A40: 11 | C40: 4 | D40: 3 | E40: 0 | F40: 2 | G40: 0 | H40: 0 | I40: Derechos por la Prestación de Servicios Municipales. | J40: 3 | K40: =SUM(L40:W40) -> 3759554.5 | L40: =SUM(L41:L52) -> 543441.72 | M40: =SUM(M41:M52) -> 564938.28 | N40: =SUM(N41:N52) -> 249232.49 | O40: =SUM(O41:O52) -> 340603.12 | P40: =SUM(P41:P52) -> 288854.13 | Q40: =SUM(Q41:Q52) -> 319542.93 | R40: =SUM(R41:R52) -> 315446.27 | S40: =SUM(S41:S52) -> 340804.53 | ... W40: =SUM(W41:W52) -> 249009
A41: 11 | C41: 4 | D41: 3 | E41: 0 | F41: 2 | G41: 0 | H41: 1 | I41: Por servicios de alumbrado público | J41: 4 | K41: =SUM(L41:W41) -> 2884633.5 | L41: 173824.12 | M41: 385688.88 | N41: 156443.09 | O41: 304842.12 | P41: 241449.07 | Q41: 305383.73 | R41: 243886.87 | S41: 330025.63 | T41: 132887 | U41: 209682 | V41: 173023 | W41: 227498
...

Sheet CALENDARIO
A1: C R I | G1: CONCEPTOS DE INGRESOS | N1: ESTIMACION DE INGRESOS A NIVEL DE DETALLE (CAPTURAR SOLO ESPACIOS EN BLANCO)
A2: R | B2: T | C2: CL | E2: CO | N2: TOTAL ANUAL | O2: ENERO | P2: FEBRERO | Q2: MARZO | R2: ABRIL | S2: MAYO | T2: JUNIO | U2: JULIO | V2: AGOSTO | W2: SEPTIEMBRE | X2: OCTUBRE | Y2: NOVIEMBRE | Z2: DICIEMBRE
A3: 1 | B3: 0 | C3: 0 | D3: 0 | E3: 0 | F3: 0 | G3: IMPUESTOS.
A4: 1 | B4: 1 | C4: 0 | D4: 0 | E4: 0 | F4: 0 | H4: Impuestos Sobre los Ingresos.
A5: 1 | B5: 1 | C5: 0 | D5: 1 | E5: 0 | F5: 0 | I5: Impuesto sobre espectáculos públicos. | N5: =SUM(O5:Z5) -> 0 | O5: 0 | P5: 0 | Q5: 0 | R5: 0 | S5: 0 | T5: 0 | U5: 0 | V5: 0 | W5: 0 | X5: 0 | Y5: 0 | Z5: 0
A6: 1 | B6: 1 | C6: 0 | D6: 2 | E6: 0 | F6: 0 | I6: Impuesto sobre rifas, loterías, concursos o sorteos. | N6: =SUM(O6:Z6) -> 0 | O6: 0 | P6: 0 | Q6: 0 | R6: 0 | S6: 0 | T6: 0 | U6: 0 | V6: 0 | W6: 0 | X6: 0 | Y6: 0 | Z6: 0
A7: 1 | B7: 2 | C7: 0 | D7: 0 | E7: 0 | F7: 0 | H7: Impuestos Sobre el Patrimonio.
A8: 1 | B8: 2 | C8: 0 | D8: 1 | E8: 0 | F8: 0 | I8: Impuesto predial.
A9: 1 | B9: 2 | C9: 0 | D9: 1 | E9: 0 | F9: 1 | J9: Impuesto Predial Urbano. | N9: =SUM(O9:Z9) -> 0 | O9: 0 | P9: 0 | Q9: 0 | R9: 0 | S9: 0 | T9: 0 | U9: 0 | V9: 0 | W9: 0 | X9: 0 | Y9: 0 | Z9: 0
A10: 1 | B10: 2 | C10: 0 | D10: 1 | E10: 0 | F10: 2 | J10: Impuesto Predial Rústico. | N10: =SUM(O10:Z10) -> 0 | O10: 0 | P10: 0 | Q10: 0 | R10: 0 | S10: 0 | T10: 0 | U10: 0 | V10: 0 | W10: 0 | X10: 0 | Y10: 0 | Z10: 0
A11: 1 | B11: 2 | C11: 0 | D11: 1 | E11: 0 | F11: 3 | J11: Impuesto Predial Ejidal y Comunal. | N11: =SUM(O11:Z11) -> 0 | O11: 0 | P11: 0 | Q11: 0 | R11: 0 | S11: 0 | T11: 0 | U11: 0 | V11: 0 | W11: 0 | X11: 0 | Y11: 0 | Z11: 0
A12: 1 | B12: 2 | C12: 0 | D12: 2 | E12: 0 | F12: 0 | I12: Impuesto sobre lotes baldíos sin bardear o falta de banquetas. | N12: =SUM(O12:Z12) -> 0 | O12: 0 | P12: 0 | Q12: 0 | R12: 0 | S12: 0 | T12: 0 | U12: 0 | V12: 0 | W12: 0 | X12: 0 | Y12: 0 | Z12: 0
A13: 1 | B13: 3 | C13: 0 | D13: 0 | E13: 0 | F13: 0 | H13: Impuesto Sobre la Producción, el Consumo y las Transacciones.
A14: 1 | B14: 3 | C14: 0 | D14: 2 | E14: 0 | F14: 0 | I14: Impuesto sobre adquisición de Bienes inmuebles. | N14: =SUM(O14:Z14) -> 0 | O14: 0 | P14: 0 | Q14: 0 | R14: 0 | S14: 0 | T14: 0 | U14: 0 | V14: 0 | W14: 0 | X14: 0 | Y14: 0 | Z14: 0
A15: 1 | B15: 7 | C15: 0 | D15: 0 | E15: 0 | F15: 0 | H15: Accesorios de Impuestos.
A16: 1 | B16: 7 | C16: 0 | D16: 1 | E16: 0 | F16: 0 | I16: Recargos. | N16: =SUM(O16:Z16) -> 0 | O16: 0 | P16: 0 | Q16: 0 | R16: 0 | S16: 0 | T16: 0 | U16: 0 | V16: 0 | W16: 0 | X16: 0 | Y16: 0 | Z16: 0
A17: 1 | B17: 7 | C17: 0 | D17: 2 | E17: 0 | F17: 0 | I17: Multas. | N17: =SUM(O17:Z17) -> 0 | O17: 0 | P17: 0 | Q17: 0 | R17: 0 | S17: 0 | T17: 0 | U17: 0 | V17: 0 | W17: 0 | X17: 0 | Y17: 0 | Z17: 0
A18: 1 | B18: 7 | C18: 0 | D18: 3 | E18: 0 | F18: 0 | I18: Honorarios y gastos de ejecución. | N18: =SUM(O18:Z18) -> 0 | O18: 0 | P18: 0 | Q18: 0 | R18: 0 | S18: 0 | T18: 0 | U18: 0 | V18: 0 | W18: 0 | X18: 0 | Y18: 0 | Z18: 0
A19: 1 | B19: 7 | C19: 0 | D19: 4 | E19: 0 | F19: 0 | I19: Actualización. | N19: =SUM(O19:Z19) -> 0 | O19: 0 | P19: 0 | Q19: 0 | R19: 0 | S19: 0 | T19: 0 | U19: 0 | V19: 0 | W19: 0 | X19: 0 | Y19: 0 | Z19: 0
A20: 1 | B20: 7 | C20: 0 | D20: 5 | E20: 0 | F20: 0 | I20: Otros accesorios. | N20: =SUM(O20:Z20) -> 0 | O20: 0 | P20: 0 | Q20: 0 | R20: 0 | S20: 0 | T20: 0 | U20: 0 | V20: 0 | W20: 0 | X20: 0 | Y20: 0 | Z20: 0
A21: 1 | B21: 8 | C21: 0 | D21: 0 | E21: 0 | F21: 0 | H21: Otros Impuestos.
A22: 1 | B22: 8 | C22: 0 | D22: 1 | E22: 0 | F22: 0 | I22: Otros Impuestos. | N22: =SUM(O22:Z22) -> 0 | O22: 0 | P22: 0 | Q22: 0 | R22: 0 | S22: 0 | T22: 0 | U22: 0 | V22: 0 | W22: 0 | X22: 0 | Y22: 0 | Z22: 0
A23: 1 | B23: 9 | C23: 0 | D23: 0 | E23: 0 | F23: 0 | H23: Impuestos no Comprendidos en las Fracciones de la Ley de Ingresos Causados en Ejercicios Fiscales Anteriores Pendientes de Liquidación o Pago.
A24: 1 | B24: 9 | C24: 0 | D24: 1 | E24: 0 | F24: 0 | I24: Impuestos no Comprendidos en las Fracciones de la Ley de Ingresos Causados en Ejercicios Fiscales Anteriores Pendientes de Liquidación o Pago. | N24: =SUM(O24:Z24) -> 0 | O24: 0 | P24: 0 | Q24: 0 | R24: 0 | S24: 0 | T24: 0 | U24: 0 | V24: 0 | W24: 0 | X24: 0 | Y24: 0 | Z24: 0
A25: 2 | B25: 0 | C25: 0 | D25: 0 | E25: 0 | F25: 0 | G25: CUOTAS Y APORTACIONES DE SEGURIDAD SOCIAL. (NO APLICA)
A26: 3 | B26: 0 | C26: 0 | D26: 0 | E26: 0 | F26: 0 | G26: CONTRIBUCIONES DE MEJORAS.
A27: 3 | B27: 1 | C27: 0 | D27: 0 | E27: 0 | F27: 0 | H27: Contribución de mejoras por obras públicas.
A28: 3 | B28: 1 | C28: 0 | D28: 1 | E28: 0 | F28: 0 | I28: De aumento de valor y mejoría especifica de la propiedad. | N28: =SUM(O28:Z28) -> 0
A29: 3 | B29: 1 | C29: 0 | D29: 2 | E29: 0 | F29: 0 | I29: De aportación por mejoras. | N29: =SUM(O29:Z29) -> 0 | O29: 0 | P29: 0 | Q29: 0 | R29: 0 | S29: 0 | T29: 0 | U29: 0 | V29: 0 | W29: 0 | X29: 0 | Y29: 0 | Z29: 0
A30: 3 | B30: 9 | C30: 0 | D30: 0 | E30: 0 | F30: 0 | H30: Contribución de Mejoras no Comprendidas en las Fracciones de la Ley de Ingresos Causadas en Ejercicios Fiscales Anteriores Pendientes de Liquidación o Pago.
A31: 3 | B31: 9 | C31: 0 | D31: 1 | E31: 0 | F31: 0 | I31: Contribución de Mejoras no Comprendidas en las Fracciones de la Ley de Ingresos Causadas en Ejercicios Fiscales Anteriores Pendientes de Liquidación o Pago. | N31: =SUM(O31:Z31) -> 0 | O31: 0 | P31: 0 | Q31: 0 | R31: 0 | S31: 0 | T31: 0 | U31: 0 | V31: 0 | W31: 0 | X31: 0 | Y31: 0 | Z31: 0
A32: 4 | B32: 0 | C32: 0 | D32: 0 | E32: 0 | F32: 0 | G32: DERECHOS.
A33: 4 | B33: 1 | C33: 0 | D33: 0 | E33: 0 | F33: 0 | H33: Derechos por el Uso, Goce, Aprovechamiento o Explotación de Bienes de Dominio Público.
A34: 4 | B34: 1 | C34: 0 | D34: 1 | E34: 0 | F34: 0 | I34: Por la ocupación de la vía pública y servicios de mercado. | N34: =SUM(O34:Z34) -> 0 | O34: 0 | P34: 0 | Q34: 0 | R34: 0 | S34: 0 | T34: 0 | U34: 0 | V34: 0 | W34: 0 | X34: 0 | Y34: 0 | Z34: 0
A35: 4 | B35: 3 | C35: 0 | D35: 0 | E35: 0 | F35: 0 | H35: Derechos por Prestación de Servicios.
A36: 4 | B36: 3 | C36: 0 | D36: 1 | E36: 0 | F36: 0 | I36: Por servicio de alumbrado público. | N36: =SUM(O36:Z36) -> 0 | O36: 0 | P36: 0 | Q36: 0 | R36: 0 | S36: 0 | T36: 0 | U36: 0 | V36: 0 | W36: 0 | X36: 0 | Y36: 0 | Z36: 0
A37: 4 | B37: 3 | C37: 0 | D37: 2 | E37: 0 | F37: 0 | I37: Por la prestación del servicio de abastecimiento de agua potable, alcantarillado y saneamiento. | N37: =SUM(O37:Z37) -> 0
A38: 4 | B38: 3 | C38: 0 | D38: 3 | E38: 0 | F38: 0 | I38: Por servicio de panteones. | N38: =SUM(O38:Z38) -> 0 | O38: 0 | P38: 0 | Q38: 0 | R38: 0 | S38: 0 | T38: 0 | U38: 0 | V38: 0 | W38: 0 | X38: 0 | Y38: 0 | Z38: 0
A39: 4 | B39: 3 | C39: 0 | D39: 4 | E39: 0 | F39: 0 | I39: Por servicio de rastro. | N39: =SUM(O39:Z39) -> 0 | O39: 0 | P39: 0 | Q39: 0 | R39: 0 | S39: 0 | T39: 0 | U39: 0 | V39: 0 | W39: 0 | X39: 0 | Y39: 0 | Z39: 0
A40: 4 | B40: 3 | C40: 0 | D40: 5 | E40: 0 | F40: 0 | I40: Por servicio de control canino. | N40: =SUM(O40:Z40) -> 0 | O40: 0 | P40: 0 | Q40: 0 | R40: 0 | S40: 0 | T40: 0 | U40: 0 | V40: 0 | W40: 0 | X40: 0 | Y40: 0 | Z40: 0
...
